BEGIN:VCALENDAR
VERSION:2.0
PRODID:-//Verein „LEBEN, LIEBEN, LACHEN – endlich weiß ich wie!“ - ECPv6.15.20//NONSGML v1.0//EN
CALSCALE:GREGORIAN
METHOD:PUBLISH
X-WR-CALNAME:Verein „LEBEN, LIEBEN, LACHEN – endlich weiß ich wie!“
X-ORIGINAL-URL:https://www.vereinlebenliebenlachen.at
X-WR-CALDESC:Veranstaltungen für Verein „LEBEN, LIEBEN, LACHEN – endlich weiß ich wie!“
REFRESH-INTERVAL;VALUE=DURATION:PT1H
X-Robots-Tag:noindex
X-PUBLISHED-TTL:PT1H
BEGIN:VTIMEZONE
TZID:Europe/Vienna
BEGIN:DAYLIGHT
TZOFFSETFROM:+0100
TZOFFSETTO:+0200
TZNAME:CEST
DTSTART:20250330T010000
END:DAYLIGHT
BEGIN:STANDARD
TZOFFSETFROM:+0200
TZOFFSETTO:+0100
TZNAME:CET
DTSTART:20251026T010000
END:STANDARD
BEGIN:DAYLIGHT
TZOFFSETFROM:+0100
TZOFFSETTO:+0200
TZNAME:CEST
DTSTART:20260329T010000
END:DAYLIGHT
BEGIN:STANDARD
TZOFFSETFROM:+0200
TZOFFSETTO:+0100
TZNAME:CET
DTSTART:20261025T010000
END:STANDARD
BEGIN:DAYLIGHT
TZOFFSETFROM:+0100
TZOFFSETTO:+0200
TZNAME:CEST
DTSTART:20270328T010000
END:DAYLIGHT
BEGIN:STANDARD
TZOFFSETFROM:+0200
TZOFFSETTO:+0100
TZNAME:CET
DTSTART:20271031T010000
END:STANDARD
END:VTIMEZONE
BEGIN:VEVENT
DTSTART;TZID=Europe/Vienna:20260423T133000
DTEND;TZID=Europe/Vienna:20260423T180000
DTSTAMP:20260423T142359
CREATED:20260122T153121Z
LAST-MODIFIED:20260323T165821Z
UID:10000331-1776951000-1776967200@www.vereinlebenliebenlachen.at
SUMMARY:Bgld./Hornstein LLL - "Die Malerinnen"  mit LLL - Botschafterin Cleo Ruisz
DESCRIPTION:🎨 Achtung\, Farb-Alarm! 🎨 \nLadies\, es wird bunt!\nCleo öffnet einmal im Monat die Türen ihres Ateliers für einen entspannten Malnachmittag – ganz ohne Leistungsdruck\, ganz ohne „Workshop-Feeling“.\nDafür mit viel Spaß\, Farbe an den Fingern und vielleicht auch auf der Nase. 😉 \nWir malen gemeinsam vor uns hin\, quatschen\,  lachen – und wenn Ihr feststeckt\, flüstert Cleo euch gerne den einen oder anderen kreativen Schubs zu. \nFarben & Co. bitte selbst einpacken – wer spontan ohne Material dasteht\, kann sich gegen einen kleinen Wertschätzungsbeitrag gerne bei Cleo bedienen. \nFreut euch auf eure kreativen Chaos-Momente mit Cleo. \n👩‍🎨 Nur 4 Plätze – also schnell anmelden!\ninfo@vereinlebenliebenlachen.at \n  \n 
URL:https://www.vereinlebenliebenlachen.at/lllevent/hornstein-lll-die-malerinnen-mit-lll-botschafterin-cleo-ruisz-4/
LOCATION:Atelier Cleo Ruisz\, Eisenstädterstraße 80\, Hornstein\, 7053
CATEGORIES:LLL
ATTACH;FMTTYPE=image/png:https://www.vereinlebenliebenlachen.at/wp-content/uploads/2026/01/Foto-scaled.png
ORGANIZER;CN="LEBEN%2C LIEBEN%2C LACHEN - endlich wei%C3%9F ich wie!":MAILTO:info@vereinlebenliebenlachen.at
END:VEVENT
END:VCALENDAR