BEGIN:VCALENDAR
VERSION:2.0
PRODID:-//Verein „LEBEN, LIEBEN, LACHEN – endlich weiß ich wie!“ - ECPv6.15.20//NONSGML v1.0//EN
CALSCALE:GREGORIAN
METHOD:PUBLISH
X-WR-CALNAME:Verein „LEBEN, LIEBEN, LACHEN – endlich weiß ich wie!“
X-ORIGINAL-URL:https://www.vereinlebenliebenlachen.at
X-WR-CALDESC:Veranstaltungen für Verein „LEBEN, LIEBEN, LACHEN – endlich weiß ich wie!“
REFRESH-INTERVAL;VALUE=DURATION:PT1H
X-Robots-Tag:noindex
X-PUBLISHED-TTL:PT1H
BEGIN:VTIMEZONE
TZID:Europe/Vienna
BEGIN:DAYLIGHT
TZOFFSETFROM:+0100
TZOFFSETTO:+0200
TZNAME:CEST
DTSTART:20250330T010000
END:DAYLIGHT
BEGIN:STANDARD
TZOFFSETFROM:+0200
TZOFFSETTO:+0100
TZNAME:CET
DTSTART:20251026T010000
END:STANDARD
BEGIN:DAYLIGHT
TZOFFSETFROM:+0100
TZOFFSETTO:+0200
TZNAME:CEST
DTSTART:20260329T010000
END:DAYLIGHT
BEGIN:STANDARD
TZOFFSETFROM:+0200
TZOFFSETTO:+0100
TZNAME:CET
DTSTART:20261025T010000
END:STANDARD
BEGIN:DAYLIGHT
TZOFFSETFROM:+0100
TZOFFSETTO:+0200
TZNAME:CEST
DTSTART:20270328T010000
END:DAYLIGHT
BEGIN:STANDARD
TZOFFSETFROM:+0200
TZOFFSETTO:+0100
TZNAME:CET
DTSTART:20271031T010000
END:STANDARD
END:VTIMEZONE
BEGIN:VEVENT
DTSTART;TZID=Europe/Vienna:20260422T173000
DTEND;TZID=Europe/Vienna:20260422T190000
DTSTAMP:20260423T125322
CREATED:20260415T074650Z
LAST-MODIFIED:20260416T081333Z
UID:10788-1776879000-1776884400@www.vereinlebenliebenlachen.at
SUMMARY:Stmk./Graz LLL - Treffpunkt Impuls Talk "Money Mindset"  mit  LLL-Botschafterin Sarah Hofbauer
DESCRIPTION:Ein inspirierender Impuls-Talk rund um das Thema Geld und Mindset: In diesem Vortrag erfahren Frauen\, wie sie finanzielle Zusammenhänge besser verstehen\, sinnvolle Anlagestrategien nutzen und Schritt für Schritt Vermögen aufbauen können. Ziel ist es\, finanzielle Sicherheit zu schaffen und die eigene Zukunft selbst bestimmt zu gestalten. \nAnmeldung direkt bei den Veranstalterin\nSarah Hofbauer\ninfo@srah-hofbauer.com \nEine Veranstaltung in Netzwerkverbundenheit mit dem Verein\n„LEBEN\, LIEBEN\, LACHEN – Prävention mit Herz\, Verstand und Freude!“\nDie LLL – Treffpunkt  DER IMPULS TALK  zeigen\, wie primäre Prävention als Schlüssel zu einem erfüllten Leben wirkt.\nOb körperlich\, emotional\, sozial oder finanziell – wer frühzeitig vorsorgt\, schafft Raum für Lebensfreude\, Leichtigkeit und Selbstbestimmung.\nDie Reihe soll  inspirieren\, aktiv Schritte zu gehen\, die Gesundheit\, Sicherheit und Wohlbefinden langfristig fördern. \nSarah Hofbauer
URL:https://www.vereinlebenliebenlachen.at/lllevent/stmk-graz-lll-treffpunkt-impuls-talk-money-mindset-mit-lll-botschafterinnen-sarah-hofbauer/
LOCATION:Spacelend Graz\, Neubaugasse 24\, 8020\, Steiermark\, 8020
CATEGORIES:LLL,LLL-PräventionsTreff
ATTACH;FMTTYPE=image/jpeg:https://www.vereinlebenliebenlachen.at/wp-content/uploads/2025/12/Logo.jpg
ORGANIZER;CN="Sarah Hofbauer":MAILTO:info@sarah-hofbauer.com
END:VEVENT
END:VCALENDAR